BEGIN:VCALENDAR
VERSION:2.0
PRODID:-//California Christmas Tree Association - ECPv6.15.20//NONSGML v1.0//EN
CALSCALE:GREGORIAN
METHOD:PUBLISH
X-ORIGINAL-URL:https://cachristmas.com
X-WR-CALDESC:Events for California Christmas Tree Association
REFRESH-INTERVAL;VALUE=DURATION:PT1H
X-Robots-Tag:noindex
X-PUBLISHED-TTL:PT1H
BEGIN:VTIMEZONE
TZID:America/Los_Angeles
BEGIN:DAYLIGHT
TZOFFSETFROM:-0800
TZOFFSETTO:-0700
TZNAME:PDT
DTSTART:20200308T100000
END:DAYLIGHT
BEGIN:STANDARD
TZOFFSETFROM:-0700
TZOFFSETTO:-0800
TZNAME:PST
DTSTART:20201101T090000
END:STANDARD
BEGIN:DAYLIGHT
TZOFFSETFROM:-0800
TZOFFSETTO:-0700
TZNAME:PDT
DTSTART:20210314T100000
END:DAYLIGHT
BEGIN:STANDARD
TZOFFSETFROM:-0700
TZOFFSETTO:-0800
TZNAME:PST
DTSTART:20211107T090000
END:STANDARD
BEGIN:DAYLIGHT
TZOFFSETFROM:-0800
TZOFFSETTO:-0700
TZNAME:PDT
DTSTART:20220313T100000
END:DAYLIGHT
BEGIN:STANDARD
TZOFFSETFROM:-0700
TZOFFSETTO:-0800
TZNAME:PST
DTSTART:20221106T090000
END:STANDARD
BEGIN:DAYLIGHT
TZOFFSETFROM:-0800
TZOFFSETTO:-0700
TZNAME:PDT
DTSTART:20230312T100000
END:DAYLIGHT
BEGIN:STANDARD
TZOFFSETFROM:-0700
TZOFFSETTO:-0800
TZNAME:PST
DTSTART:20231105T090000
END:STANDARD
END:VTIMEZONE
BEGIN:VEVENT
DTSTART;TZID=America/Los_Angeles:20220423T090000
DTEND;TZID=America/Los_Angeles:20220423T173000
DTSTAMP:20260425T185938
CREATED:20220321T130531Z
LAST-MODIFIED:20220321T160221Z
UID:2322-1650704400-1650735000@cachristmas.com
SUMMARY:2022 Annual Meeting
DESCRIPTION:2022 Annual Meeting\nApril 23rd 2022\nRegistration Deadline is April 15. 2022 \nThe 2022 Annual Meeting will be held at the Anderson Tree farm in Murphys located at: \n1645 Mustang Rd. Murphys\, CA 95247.\nPhone: 209-401-5409\nWebsite: www.andersontreefarm.net \nRegistration includes Saturday Continental Breakfast\, lunch\, and afternoon snacks. \nThis year we are inviting non CCTA members at our membership rate\, so please invite any local farm to our meeting. \nRegistration will be $35 per person for the Annual Meeting. \nIf you would like to sponsor the Continental Breakfast\, afternoon snack\, and beverages\, let us know by indicating on the Registration Form. \nSponsorships will be $50 per person for the Annual Meeting. \nWith no Executive Officer\, and an all-volunteer staff\, we would appreciate payment and registration being done online. Registration is available online at www.cachristmas.com. \nHowever\, if you need to mail this form and payment instead\, you may do so by\ndownloading\, printing\, and completing the 2022 Annual Meeting Registration then mailing it to:\nCCTA\nPO Box 554 Dixon CA 95620. \n\nPlease REGISTER prior to purchasing tickets!!!\n\n 
URL:https://cachristmas.com/event/2022-annual-meeting/
LOCATION:Anderson Tree Farm\, 1645 Mustang Rd.\, Murphys\, CA\, 95247\, United States
CATEGORIES:Member Meetings
ORGANIZER;CN="CCTA":MAILTO:info@cachristmas.com
END:VEVENT
BEGIN:VEVENT
DTSTART;TZID=America/Los_Angeles:20210821T080000
DTEND;TZID=America/Los_Angeles:20210821T180000
DTSTAMP:20260425T185938
CREATED:20210525T152620Z
LAST-MODIFIED:20210728T140908Z
UID:2086-1629532800-1629568800@cachristmas.com
SUMMARY:2021 Season Kickoff/Annual Meeting
DESCRIPTION:This Event Registration is for Online Payment\nCalifornia Christmas Tree Association’s\n2021 Annual Meeting/Season Kickoff\nAugust 21\, 2021\nSilveyville Christmas Tree and Pumpkin Farm\nDixon\, CA\n6248 Silveyville Rd\, Dixon\, CA\, 95620  Ph: 707-365-4223 \nThe 2021 combined Season Kick Off/Annual Meeting will be held at the Silveyville Tree Farm.\nWe are excited that we can finally come together with the loosening of the Covid requirements.\nRegistration includes Saturday Continental Breakfast\, lunch\, mid-morning\, and afternoon snacks.\n(This year we are inviting non CCTA members at our membership rate.) \n\nRegistration begins at 8:00 am.\nWe will be covering many great topics! See the schedule for details.\n\nRegistration fee is $30 per person due Aug. 8th\nSponsorship registration is $50 per person due Aug. 8th\n(Sponsorship registration is for those that would like to help with the extra costs of\ncontinental breakfast\, mid morning snacks\, lunch\, and afternoon snacks) \nInformation for 2021 Annual Meeting/Season Kick-off\nAgenda for 2021 Annual Meeting/Season Kick-off \nDon’t forget to Purchase Tickets after Registration!!!
URL:https://cachristmas.com/event/2021-season-kickoff-annual-meeting/
LOCATION:Silveyville Christmas Tree Farm\, 6248 Silveyville Road\, Dixon\, CA\, 95620\, United States
CATEGORIES:Member Meetings
ORGANIZER;CN="CCTA":MAILTO:info@cachristmas.com
END:VEVENT
END:VCALENDAR